BEGIN:VCALENDAR
VERSION:2.0
PRODID:-//Contratero//ES
CALSCALE:GREGORIAN
METHOD:PUBLISH
BEGIN:VEVENT
UID:MAD-2025-06-26 Sop y Atenc usuario (CAU) 2025-2028@contratero.es
DTSTAMP:20260421T234608Z
DTSTART:20250905T235959
DTEND:20250906T005959
SUMMARY:Cierre: Servicios gestionados de Soporte y Atención al usu
DESCRIPTION:Servicios gestionados de Soporte y Atención al usuario de NAVANTIA\\n\\nOrganismo: Comité de Dirección Corporativo de Navantia S.A.\, S.M.E.\\n\\nVer en Contratero: https://contratero.es/contracts/MAD-2025-06-26 Sop y Atenc usuario (CAU) 2025-2028
URL:https://contratero.es/contracts/MAD-2025-06-26 Sop y Atenc usuario (CAU) 2025-2028
STATUS:CONFIRMED
BEGIN:VALARM
TRIGGER:-P1D
ACTION:DISPLAY
DESCRIPTION:Recordatorio: Servicios gestionados de Sopor
END:VALARM
END:VEVENT
END:VCALENDAR